BEGIN:VCALENDAR
VERSION:2.0
PRODID:-//SCI Schweiz - ECPv6.15.11//NONSGML v1.0//EN
CALSCALE:GREGORIAN
METHOD:PUBLISH
X-WR-CALNAME:SCI Schweiz
X-ORIGINAL-URL:https://scich.org
X-WR-CALDESC:Veranstaltungen im SCI Schweiz
REFRESH-INTERVAL;VALUE=DURATION:PT1H
X-Robots-Tag:noindex
X-PUBLISHED-TTL:PT1H
BEGIN:VTIMEZONE
TZID:Europe/London
BEGIN:DAYLIGHT
TZOFFSETFROM:+0000
TZOFFSETTO:+0100
TZNAME:BST
DTSTART:20190331T010000
END:DAYLIGHT
BEGIN:STANDARD
TZOFFSETFROM:+0100
TZOFFSETTO:+0000
TZNAME:GMT
DTSTART:20191027T010000
END:STANDARD
BEGIN:DAYLIGHT
TZOFFSETFROM:+0000
TZOFFSETTO:+0100
TZNAME:BST
DTSTART:20200329T010000
END:DAYLIGHT
BEGIN:STANDARD
TZOFFSETFROM:+0100
TZOFFSETTO:+0000
TZNAME:GMT
DTSTART:20201025T010000
END:STANDARD
BEGIN:DAYLIGHT
TZOFFSETFROM:+0000
TZOFFSETTO:+0100
TZNAME:BST
DTSTART:20210328T010000
END:DAYLIGHT
BEGIN:STANDARD
TZOFFSETFROM:+0100
TZOFFSETTO:+0000
TZNAME:GMT
DTSTART:20211031T010000
END:STANDARD
END:VTIMEZONE
BEGIN:VEVENT
DTSTART;TZID=Europe/London:20201030T170000
DTEND;TZID=Europe/London:20201111T203000
DTSTAMP:20260421T150122
CREATED:20201029T083739Z
LAST-MODIFIED:20201029T092644Z
UID:14443-1604077200-1605126600@scich.org
SUMMARY:Online Training Course: Peace in Practice
DESCRIPTION:Do you agree that we all deserve peaceful lives\, with peaceful minds\, non- violent interactions\, and without the horrors of war and conflict?\nHave you ever wondered how we can make this dream come true\, step by step?\nWould you be ready to become one of brave young changemakers who make the world a better place?\nAre you ready to meet amazing people from over 10 countries\, make new friendships and get inspired by their ideas and projects?\n\nIf you’ve answered these questions with YES – this opportunity is for you! \nMore info: http://bit.ly/Peace-in-Practice-Training \nHow to apply: http://bit.ly/Form-Peace-in-Practice \nA training with different workshops about peacebuilding\, 3 levels of Peace\, interpersonal peace\, peace with nature and much more\, organized by SCI Switzerland. \nThis training course is open to everyone.
URL:https://scich.org/events/online-training-course-peace-in-practice/
LOCATION:Bern
END:VEVENT
END:VCALENDAR