BEGIN:VCALENDAR
VERSION:2.0
PRODID:-//SCI Schweiz - ECPv6.15.11//NONSGML v1.0//EN
CALSCALE:GREGORIAN
METHOD:PUBLISH
X-WR-CALNAME:SCI Schweiz
X-ORIGINAL-URL:https://scich.org
X-WR-CALDESC:Veranstaltungen im SCI Schweiz
REFRESH-INTERVAL;VALUE=DURATION:PT1H
X-Robots-Tag:noindex
X-PUBLISHED-TTL:PT1H
BEGIN:VTIMEZONE
TZID:Europe/London
BEGIN:DAYLIGHT
TZOFFSETFROM:+0000
TZOFFSETTO:+0100
TZNAME:BST
DTSTART:20210328T010000
END:DAYLIGHT
BEGIN:STANDARD
TZOFFSETFROM:+0100
TZOFFSETTO:+0000
TZNAME:GMT
DTSTART:20211031T010000
END:STANDARD
BEGIN:DAYLIGHT
TZOFFSETFROM:+0000
TZOFFSETTO:+0100
TZNAME:BST
DTSTART:20220327T010000
END:DAYLIGHT
BEGIN:STANDARD
TZOFFSETFROM:+0100
TZOFFSETTO:+0000
TZNAME:GMT
DTSTART:20221030T010000
END:STANDARD
BEGIN:DAYLIGHT
TZOFFSETFROM:+0000
TZOFFSETTO:+0100
TZNAME:BST
DTSTART:20230326T010000
END:DAYLIGHT
BEGIN:STANDARD
TZOFFSETFROM:+0100
TZOFFSETTO:+0000
TZNAME:GMT
DTSTART:20231029T010000
END:STANDARD
END:VTIMEZONE
BEGIN:VEVENT
DTSTART;TZID=Europe/London:20220503T183000
DTEND;TZID=Europe/London:20220503T213000
DTSTAMP:20260421T104434
CREATED:20220422T112603Z
LAST-MODIFIED:20220422T112603Z
UID:23660-1651602600-1651613400@scich.org
SUMMARY:Living Library Bern: Climate Justice
DESCRIPTION:Wir möchten euch zu einer Living Library zum Thema Climate Justice am Dienstag\, 3. Mai\, in Bern (18:30-12:30 Uhr) einladen. Diese Veranstaltung ist eine Zusammenarbeit mit BENE (Verein für Nachhaltige Entwicklung an den Berner Hochschulen).\nDON’T JUDGE A BOOK BY ITS COVER \nLiving Library ist eine innovative Methode um den Dialog zu fördern\, Vorurteile abzubauen und Verständnis zu schaffen. Die lebendige Bibliothek schafft einen Raum für Gespräche und Austausch. \nIn dieser Living Library hast du die Chance\, dich im direkten Gespräch mit Menschen zu Climate Justice auseinanderzusetzen. Die lebendigen Bücher bringen ihre eigene Geschichte mit\, sind unterschiedlich alt und haben verschiedene soziale und kulturelle Hintergründe. \nDie «Bücher» erzählen dir in ca. 30 Minuten aus ihrem Leben und von ihren Erfahrungen. Der Eintritt zu diesem Event ist frei. Von 18:30 – 21:30h kann man laufend teilnehmen. \nWir erlauben uns für die Organisation des Events einen Kollektentopf aufzustellen. \nDie Living Library findet im Wartsaal Kaffee (Lorrainestrasse 15\, 3013 Bern) statt. \nOrganisator*innen: \nDer SCI Schweiz organisiert Freiwilligenarbeit\, die zum Frieden in einem breiten Sinne beitragen: zur sozialen Gerechtigkeit\, nachhaltigen Entwicklung\, Gleichberechtigung\, Solidarität und gewaltfreien Konfliktlösung. Durch lokales Engagement wie Freiwilligenarbeit\, Veranstaltungen und Trainings\, setzt sich der SCI für eine Kultur des Friedens ein. \nBENE ist der Verein für Nachhaltige Entwicklung an den Berner Hochschulen. In verschiedenen Projektgruppen beschäftigen sich Studierende aus diversen Fachbereichen mit unterschiedlichen Aspekten einer Nachhaltigen Entwicklung. Durch Informationen und Aktionen möchte BENE das studentische und gesellschaftliche Umfeld für die Problematik der Nachhaltigen Entwicklung sensibilisieren und zu individuellem nachhaltigen Handeln in den Bereichen Umwelt\, Gesellschaft und Wirtschaft motivieren. Interessierte können sich gerne per Mail melden: verein@bene-unibe.ch
URL:https://scich.org/events/living-library-bern-climate-justice/
LOCATION:Bern
END:VEVENT
BEGIN:VEVENT
DTSTART;TZID=Europe/London:20220517T193000
DTEND;TZID=Europe/London:20220517T200000
DTSTAMP:20260421T104434
CREATED:20220510T084212Z
LAST-MODIFIED:20220510T084212Z
UID:23861-1652815800-1652817600@scich.org
SUMMARY:Info-event: Workcamps
DESCRIPTION:Do you want to contribute to society instead of just traveling?\nWould you like to support a social\, ecological or cultural project abroad or in Switzerland for 1-3 weeks this summer?\nAre you interested in #workcamps & do you want to contribute to social transformation and global justice?\nIf all your answers are “yes”\, join this info-event!\nSCI Switzerland organizes volunteering projects around the world that contribute to peace in a broad sense: to social justice\, sustainable development\, equality\, solidarity and non-violent conflict resolution.\nIf you want to join\, sign up: https://scich.org/en/information-events/#info-events\nIf you are unable to participate on that day\, we can send you all the information by email!\nBe part of the change!\n*This event is for people living in Switzerland
URL:https://scich.org/events/info-event-workcamps-17-may/
LOCATION:Bern
END:VEVENT
BEGIN:VEVENT
DTSTART;TZID=Europe/London:20220519T193000
DTEND;TZID=Europe/London:20220519T200000
DTSTAMP:20260421T104434
CREATED:20220510T084307Z
LAST-MODIFIED:20220510T084307Z
UID:23863-1652988600-1652990400@scich.org
SUMMARY:Info-event: Workcamps
DESCRIPTION:Do you want to contribute to society instead of just traveling?\nWould you like to support a social\, ecological or cultural project abroad or in Switzerland for 1-3 weeks this summer?\nAre you interested in #workcamps & do you want to contribute to social transformation and global justice?\nIf all your answers are “yes”\, join this info-event!\nSCI Switzerland organizes volunteering projects around the world that contribute to peace in a broad sense: to social justice\, sustainable development\, equality\, solidarity and non-violent conflict resolution.\nIf you want to join\, sign up: https://scich.org/en/information-events/#info-events\nIf you are unable to participate on that day\, we can send you all the information by email!\nBe part of the change!\n*This event is for people living in Switzerland
URL:https://scich.org/events/info-event-workcamps-19-may/
LOCATION:Bern
END:VEVENT
BEGIN:VEVENT
DTSTART;TZID=Europe/London:20220531T193000
DTEND;TZID=Europe/London:20220531T200000
DTSTAMP:20260421T104434
CREATED:20220510T084014Z
LAST-MODIFIED:20220510T084014Z
UID:23857-1654025400-1654027200@scich.org
SUMMARY:Info-event: Long-Term-Volunteering (may 2022)
DESCRIPTION:Do you want to contribute to society instead of just traveling?\nDo you want to support a social\, ecological or cultural project in Africa\, Asia\, Latin America or North America for 1-3 months?\nAre you interested in #volunteering & do you want to contribute to social transformation and global justice?\nIf all your answers are “yes”\, join one of our info-events!\nSCI Switzerland organizes volunteering projects around the world that contribute to peace in a broad sense: to social justice\, sustainable development\, equality\, solidarity and non-violent conflict resolution.\nIf you want to join\, sign up: https://scich.org/en/information-events/#info-events\nIf you are unable to participate on that day\, we can send you all the information by email!\nBe part of the change!\n*This event is for people living in Switzerland
URL:https://scich.org/events/info-event-long-term-volunteering-may-2022/
LOCATION:Bern
END:VEVENT
END:VCALENDAR