BEGIN:VCALENDAR
VERSION:2.0
PRODID:-//SCI Schweiz - ECPv6.15.11//NONSGML v1.0//EN
CALSCALE:GREGORIAN
METHOD:PUBLISH
X-WR-CALNAME:SCI Schweiz
X-ORIGINAL-URL:https://scich.org
X-WR-CALDESC:Veranstaltungen im SCI Schweiz
REFRESH-INTERVAL;VALUE=DURATION:PT1H
X-Robots-Tag:noindex
X-PUBLISHED-TTL:PT1H
BEGIN:VTIMEZONE
TZID:Europe/London
BEGIN:DAYLIGHT
TZOFFSETFROM:+0000
TZOFFSETTO:+0100
TZNAME:BST
DTSTART:20210328T010000
END:DAYLIGHT
BEGIN:STANDARD
TZOFFSETFROM:+0100
TZOFFSETTO:+0000
TZNAME:GMT
DTSTART:20211031T010000
END:STANDARD
BEGIN:DAYLIGHT
TZOFFSETFROM:+0000
TZOFFSETTO:+0100
TZNAME:BST
DTSTART:20220327T010000
END:DAYLIGHT
BEGIN:STANDARD
TZOFFSETFROM:+0100
TZOFFSETTO:+0000
TZNAME:GMT
DTSTART:20221030T010000
END:STANDARD
BEGIN:DAYLIGHT
TZOFFSETFROM:+0000
TZOFFSETTO:+0100
TZNAME:BST
DTSTART:20230326T010000
END:DAYLIGHT
BEGIN:STANDARD
TZOFFSETFROM:+0100
TZOFFSETTO:+0000
TZNAME:GMT
DTSTART:20231029T010000
END:STANDARD
END:VTIMEZONE
BEGIN:VEVENT
DTSTART;TZID=Europe/London:20221111T190000
DTEND;TZID=Europe/London:20221113T140000
DTSTAMP:20260421T002438
CREATED:20220930T090952Z
LAST-MODIFIED:20220930T090952Z
UID:24991-1668193200-1668348000@scich.org
SUMMARY:Mini-Workcamp: Wildbienensandlinsen und Baumpflanztage mit Lebenshof «Wendy-Welt»
DESCRIPTION:Wer hat Lust mit anzupacken? \nWir bauen Sandlinsen für Wildbienen und pflanzen Bäume und Sträucher. \nBereits zum zweiten Mal unterstützen wir mit einem Arbeitseinsatz den Lebenshof Wendy Welt. \nVeganes Menü & die Kosten für Unterkunft und Verpflegung werden übernommen. \nMACH MIT! \nInfos & Anmeldung: https://scich.org/mini-workcamp-lebenshof-wendy-welt/
URL:https://scich.org/events/mini-workcamp-wildbienensandlinsen-und-baumpflanztage-mit-lebenshof-wendy-welt/
LOCATION:Bern
END:VEVENT
BEGIN:VEVENT
DTSTART;TZID=Europe/London:20221115T193000
DTEND;TZID=Europe/London:20221115T200000
DTSTAMP:20260421T002438
CREATED:20221104T122537Z
LAST-MODIFIED:20221104T122817Z
UID:25255-1668540600-1668542400@scich.org
SUMMARY:Info-event: Volunteering for Peace
DESCRIPTION:Do you want to contribute to society instead of just traveling?\n\nDo you want to support a social\, ecological or cultural project abroad or in Switzerland?\nAre you interested in #volunteering\, trainings and local projects & do you want to contribute to social transformation and global justice?\n\nIf all your answers are “yes”\, join one of our info-events!\n\nSCI Switzerland organizes volunteering projects around the world that contribute to peace in a broad sense: to social justice\, sustainable development\, equality\, solidarity and non-violent conflict resolution.\n\nIf you want to join\, sign up: https://scich.org/en/information-events/#info-events\n\nIf you are unable to participate on that day\, we can send you all the information by email!\n\nBe part of the change!\n\n*This event is for people living in Switzerland
URL:https://scich.org/events/info-event-15-november/
LOCATION:Bern
END:VEVENT
BEGIN:VEVENT
DTSTART;TZID=Europe/London:20221122T193000
DTEND;TZID=Europe/London:20221122T200000
DTSTAMP:20260421T002438
CREATED:20221104T122628Z
LAST-MODIFIED:20221104T122645Z
UID:25257-1669145400-1669147200@scich.org
SUMMARY:Info-event: Volunteering for Peace
DESCRIPTION:Do you want to contribute to society instead of just traveling?\n\nDo you want to support a social\, ecological or cultural project abroad or in Switzerland?\nAre you interested in #volunteering\, trainings and local projects & do you want to contribute to social transformation and global justice?\n\nIf all your answers are “yes”\, join one of our info-events!\n\nSCI Switzerland organizes volunteering projects around the world that contribute to peace in a broad sense: to social justice\, sustainable development\, equality\, solidarity and non-violent conflict resolution.\n\nIf you want to join\, sign up: https://scich.org/en/information-events/#info-events\n\nIf you are unable to participate on that day\, we can send you all the information by email!\n\nBe part of the change!\n\n*This event is for people living in Switzerland
URL:https://scich.org/events/info-event-22-november/
LOCATION:Bern
END:VEVENT
BEGIN:VEVENT
DTSTART;VALUE=DATE:20221126
DTEND;VALUE=DATE:20221127
DTSTAMP:20260421T002438
CREATED:20221020T111238Z
LAST-MODIFIED:20221025T062827Z
UID:25160-1669420800-1669507199@scich.org
SUMMARY:Pre-departure training - 26 november 2022
DESCRIPTION:Take part in the next pre-departure training! \nWe are happy to have you on board as a participant for our pre-departure training on 26th of November 2022 in Bremgarten\, Berne! \nThis seminar is directed at all volunteers\, incl. workcamp participants\, workcamp coordinators and longterm volunteers. \nABOUT THE TRAINING \nWith this pre-departure training at SCI\, we want to distribute volunteers and camp coordinators with an in-depth preparation for their intercultural volunteering experience\, whether it is a workcamp in Switzerland or abroad\, a long-term project or EVS program. \nIn general\, we will provide different energizers and workshops about interculturality\, stereotypes/prejudices\, SCI history\, peacebuilding\, conflict resolution\, power mechanisms\, gender roles\, micro-aggressions\, etc. \nAs in every SCI seminar or training\, you will also meet nice people and be able to enjoy a big group of passionate volunteers in a real SCI atmosphere\, which is supposed to give you a taste of what you will be promoting afterwards. \nThe working language of the training is English\, so free command of the language is necessary in order for you to benefit most from the content of the training. Of course\, questions can also be asked in either German or French if it’s easier for the person asking the question \nFind out more (Venue\, costs\, application): https://scich.org/pre-departure-training-26-november/
URL:https://scich.org/events/pre-departure-training-26-november-2022/
LOCATION:Bern
END:VEVENT
BEGIN:VEVENT
DTSTART;TZID=Europe/London:20221129T193000
DTEND;TZID=Europe/London:20221129T200000
DTSTAMP:20260421T002438
CREATED:20221104T122740Z
LAST-MODIFIED:20221104T122741Z
UID:25260-1669750200-1669752000@scich.org
SUMMARY:Info-event: Volunteering for Peace
DESCRIPTION:info-event-15-novemberDo you want to contribute to society instead of just traveling?\n\nDo you want to support a social\, ecological or cultural project abroad or in Switzerland?\nAre you interested in #volunteering\, trainings and local projects & do you want to contribute to social transformation and global justice?\n\nIf all your answers are “yes”\, join one of our info-events!\n\nSCI Switzerland organizes volunteering projects around the world that contribute to peace in a broad sense: to social justice\, sustainable development\, equality\, solidarity and non-violent conflict resolution.\n\nIf you want to join\, sign up: https://scich.org/en/information-events/#info-events\n\nIf you are unable to participate on that day\, we can send you all the information by email!\n\nBe part of the change!\n\n*This event is for people living in Switzerland
URL:https://scich.org/events/info-event-29-november/
LOCATION:Bern
END:VEVENT
END:VCALENDAR