BEGIN:VCALENDAR
VERSION:2.0
PRODID:-//SCI Schweiz - ECPv6.15.11//NONSGML v1.0//EN
CALSCALE:GREGORIAN
METHOD:PUBLISH
X-WR-CALNAME:SCI Schweiz
X-ORIGINAL-URL:https://scich.org
X-WR-CALDESC:Veranstaltungen im SCI Schweiz
REFRESH-INTERVAL;VALUE=DURATION:PT1H
X-Robots-Tag:noindex
X-PUBLISHED-TTL:PT1H
BEGIN:VTIMEZONE
TZID:Europe/London
BEGIN:DAYLIGHT
TZOFFSETFROM:+0000
TZOFFSETTO:+0100
TZNAME:BST
DTSTART:20210328T010000
END:DAYLIGHT
BEGIN:STANDARD
TZOFFSETFROM:+0100
TZOFFSETTO:+0000
TZNAME:GMT
DTSTART:20211031T010000
END:STANDARD
BEGIN:DAYLIGHT
TZOFFSETFROM:+0000
TZOFFSETTO:+0100
TZNAME:BST
DTSTART:20220327T010000
END:DAYLIGHT
BEGIN:STANDARD
TZOFFSETFROM:+0100
TZOFFSETTO:+0000
TZNAME:GMT
DTSTART:20221030T010000
END:STANDARD
BEGIN:DAYLIGHT
TZOFFSETFROM:+0000
TZOFFSETTO:+0100
TZNAME:BST
DTSTART:20230326T010000
END:DAYLIGHT
BEGIN:STANDARD
TZOFFSETFROM:+0100
TZOFFSETTO:+0000
TZNAME:GMT
DTSTART:20231029T010000
END:STANDARD
END:VTIMEZONE
BEGIN:VEVENT
DTSTART;TZID=Europe/London:20221206T193000
DTEND;TZID=Europe/London:20221206T200000
DTSTAMP:20260420T224029
CREATED:20221130T113956Z
LAST-MODIFIED:20221130T113956Z
UID:25594-1670355000-1670356800@scich.org
SUMMARY:Online Info-event: Volunteering for Peace
DESCRIPTION:Do you want to contribute to society instead of just traveling?\n\nDo you want to support a social\, ecological or cultural project abroad or in Switzerland?\nAre you interested in #volunteering\, trainings and local projects & do you want to contribute to social transformation and global justice?\n\nIf all your answers are “yes”\, join one of our info-events!\n\nSCI Switzerland organizes volunteering projects around the world that contribute to peace in a broad sense: to social justice\, sustainable development\, equality\, solidarity and non-violent conflict resolution.\n\nIf you want to join\, sign up: https://scich.org/en/information-events/#info-events\n\nIf you are unable to participate on that day\, we can send you all the information by email!\n\nBe part of the change!\n\n*This event is for people living in Switzerland
URL:https://scich.org/events/online-info-event-december-2022/
LOCATION:Bern
END:VEVENT
BEGIN:VEVENT
DTSTART;TZID=Europe/London:20221216T123000
DTEND;TZID=Europe/London:20221216T130000
DTSTAMP:20260420T224029
CREATED:20221130T114457Z
LAST-MODIFIED:20221130T114457Z
UID:25596-1671193800-1671195600@scich.org
SUMMARY:Lunch Info-event: Long-Term-Volunteering
DESCRIPTION:Do you want to contribute to society instead of just traveling?\nDo you want to support a social\, ecological or cultural project in Africa\, Asia\, Latin America or North America for 1-12 months?\nAre you interested in volunteering & do you want to contribute to social transformation and global justice?\n\nIf all your answers are “yes”\, join this info-event! Bring your lunch\, come to the office (Monbijoustrasse 32\, 3011 Bern) and let’s talk about long-term volunteering! We’ll answer all your questions (;\n\nSCI Switzerland organizes volunteering projects around the world that contribute to peace in a broad sense: to social justice\, sustainable development\, equality\, solidarity and non-violent conflict resolution.\n\nIf you want to join\, sign up: https://scich.org/en/information-events/#info-events\n\nIf you are unable to participate on that day\, we can send you all the information by email!\n\nBe part of the change!\n\n*This event is for people living in Switzerland
URL:https://scich.org/events/lunch-info-event-long-term-december-2022/
LOCATION:Bern
END:VEVENT
END:VCALENDAR