BEGIN:VCALENDAR
VERSION:2.0
PRODID:-//SCI Schweiz - ECPv6.15.11//NONSGML v1.0//EN
CALSCALE:GREGORIAN
METHOD:PUBLISH
X-WR-CALNAME:SCI Schweiz
X-ORIGINAL-URL:https://scich.org
X-WR-CALDESC:Veranstaltungen im SCI Schweiz
REFRESH-INTERVAL;VALUE=DURATION:PT1H
X-Robots-Tag:noindex
X-PUBLISHED-TTL:PT1H
BEGIN:VTIMEZONE
TZID:Europe/London
BEGIN:DAYLIGHT
TZOFFSETFROM:+0000
TZOFFSETTO:+0100
TZNAME:BST
DTSTART:20220327T010000
END:DAYLIGHT
BEGIN:STANDARD
TZOFFSETFROM:+0100
TZOFFSETTO:+0000
TZNAME:GMT
DTSTART:20221030T010000
END:STANDARD
BEGIN:DAYLIGHT
TZOFFSETFROM:+0000
TZOFFSETTO:+0100
TZNAME:BST
DTSTART:20230326T010000
END:DAYLIGHT
BEGIN:STANDARD
TZOFFSETFROM:+0100
TZOFFSETTO:+0000
TZNAME:GMT
DTSTART:20231029T010000
END:STANDARD
BEGIN:DAYLIGHT
TZOFFSETFROM:+0000
TZOFFSETTO:+0100
TZNAME:BST
DTSTART:20240331T010000
END:DAYLIGHT
BEGIN:STANDARD
TZOFFSETFROM:+0100
TZOFFSETTO:+0000
TZNAME:GMT
DTSTART:20241027T010000
END:STANDARD
END:VTIMEZONE
BEGIN:VEVENT
DTSTART;TZID=Europe/London:20230110T193000
DTEND;TZID=Europe/London:20230110T193000
DTSTAMP:20260421T002505
CREATED:20221223T094633Z
LAST-MODIFIED:20240515T103511Z
UID:25845-1673379000-1673379000@scich.org
SUMMARY:Online Info-event: Volunteering for Peace
DESCRIPTION:Do you want to contribute to society instead of just traveling?\n\nDo you want to support a social\, ecological or cultural project abroad or in Switzerland?\nAre you interested in #volunteering\, trainings and local projects & do you want to contribute to social transformation and global justice?\n\nIf all your answers are “yes”\, join one of our online info-events!\n\nSCI Switzerland organizes volunteering projects around the world that contribute to peace in a broad sense: to social justice\, sustainable development\, equality\, solidarity and non-violent conflict resolution.\n\nIf you want to join\, sign up: https://scich.org/en/information-events/#info-events\n\nIf you are unable to participate on that day\, we can send you all the information by email!\n\nBe part of the change!\n\n*This event is for people living in Switzerland
URL:https://scich.org/events/online-info-event-january-10-2023/
LOCATION:Bern
END:VEVENT
BEGIN:VEVENT
DTSTART;TZID=Europe/London:20230113T123000
DTEND;TZID=Europe/London:20230113T123000
DTSTAMP:20260421T002505
CREATED:20221223T094853Z
LAST-MODIFIED:20240515T103552Z
UID:25849-1673613000-1673613000@scich.org
SUMMARY:Lunch Info-event: Long-Term-Volunteering
DESCRIPTION:Do you want to contribute to society instead of just traveling?\nDo you want to support a social\, ecological or cultural project in Africa\, Asia\, Latin America or North America for 1-12 months?\nAre you interested in volunteering & do you want to contribute to social transformation and global justice?\n\nIf all your answers are “yes”\, join this info-event! Bring your lunch\, come to the office (Monbijoustrasse 32\, 3011 Bern) and let’s talk about long-term volunteering! We’ll answer all your questions (;\n\nSCI Switzerland organizes volunteering projects around the world that contribute to peace in a broad sense: to social justice\, sustainable development\, equality\, solidarity and non-violent conflict resolution.\n\nIf you want to join\, sign up: https://scich.org/en/information-events/#info-events\n\nIf you are unable to participate on that day\, we can send you all the information by email!\n\nBe part of the change!\n\n*This event is for people living in Switzerland
URL:https://scich.org/events/lunch-info-event-long-term-january-2023/
LOCATION:Bern
END:VEVENT
BEGIN:VEVENT
DTSTART;TZID=Europe/London:20230124T193000
DTEND;TZID=Europe/London:20230124T193000
DTSTAMP:20260421T002505
CREATED:20221223T094744Z
LAST-MODIFIED:20240515T103612Z
UID:25847-1674588600-1674588600@scich.org
SUMMARY:Online Info-event: Volunteering for Peace
DESCRIPTION:Do you want to contribute to society instead of just traveling?\n\nDo you want to support a social\, ecological or cultural project abroad or in Switzerland?\nAre you interested in #volunteering\, trainings and local projects & do you want to contribute to social transformation and global justice?\n\nIf all your answers are “yes”\, join one of our online info-events!\n\nSCI Switzerland organizes volunteering projects around the world that contribute to peace in a broad sense: to social justice\, sustainable development\, equality\, solidarity and non-violent conflict resolution.\n\nIf you want to join\, sign up: https://scich.org/en/information-events/#info-events\n\nIf you are unable to participate on that day\, we can send you all the information by email!\n\nBe part of the change!\n\n*This event is for people living in Switzerland
URL:https://scich.org/events/online-info-event-january-24-2023/
LOCATION:Bern
END:VEVENT
BEGIN:VEVENT
DTSTART;TZID=Europe/London:20230127T123000
DTEND;TZID=Europe/London:20230127T123000
DTSTAMP:20260421T002505
CREATED:20220707T141507Z
LAST-MODIFIED:20240515T103626Z
UID:24553-1674822600-1674822600@scich.org
SUMMARY:Info-event: Long-Term-Volunteering
DESCRIPTION:Do you want to contribute to society instead of just traveling?\nDo you want to support a social\, ecological or cultural project in Africa\, Asia\, Latin America or North America for 1-3 months?\nAre you interested in volunteering & do you want to contribute to social transformation and global justice?\n\nIf all your answers are “yes”\, join one of our info-events!\n\nSCI Switzerland organizes volunteering projects around the world that contribute to peace in a broad sense: to social justice\, sustainable development\, equality\, solidarity and non-violent conflict resolution.\nIf you want to join\, sign up: https://scich.org/en/information-events/#info-events\n\nIf you are unable to participate on that day\, we can send you all the information by email!\n\nBe part of the change!\n\n*This event is for people living in Switzerland
URL:https://scich.org/events/info-event-long-term-january-2023/
LOCATION:Bern
END:VEVENT
END:VCALENDAR