BEGIN:VCALENDAR
VERSION:2.0
PRODID:-//SCI Schweiz - ECPv6.15.11//NONSGML v1.0//EN
CALSCALE:GREGORIAN
METHOD:PUBLISH
X-WR-CALNAME:SCI Schweiz
X-ORIGINAL-URL:https://scich.org
X-WR-CALDESC:Veranstaltungen im SCI Schweiz
REFRESH-INTERVAL;VALUE=DURATION:PT1H
X-Robots-Tag:noindex
X-PUBLISHED-TTL:PT1H
BEGIN:VTIMEZONE
TZID:Europe/London
BEGIN:DAYLIGHT
TZOFFSETFROM:+0000
TZOFFSETTO:+0100
TZNAME:BST
DTSTART:20220327T010000
END:DAYLIGHT
BEGIN:STANDARD
TZOFFSETFROM:+0100
TZOFFSETTO:+0000
TZNAME:GMT
DTSTART:20221030T010000
END:STANDARD
BEGIN:DAYLIGHT
TZOFFSETFROM:+0000
TZOFFSETTO:+0100
TZNAME:BST
DTSTART:20230326T010000
END:DAYLIGHT
BEGIN:STANDARD
TZOFFSETFROM:+0100
TZOFFSETTO:+0000
TZNAME:GMT
DTSTART:20231029T010000
END:STANDARD
BEGIN:DAYLIGHT
TZOFFSETFROM:+0000
TZOFFSETTO:+0100
TZNAME:BST
DTSTART:20240331T010000
END:DAYLIGHT
BEGIN:STANDARD
TZOFFSETFROM:+0100
TZOFFSETTO:+0000
TZNAME:GMT
DTSTART:20241027T010000
END:STANDARD
END:VTIMEZONE
BEGIN:VEVENT
DTSTART;TZID=Europe/London:20230224T123000
DTEND;TZID=Europe/London:20230224T123000
DTSTAMP:20260421T020628
CREATED:20230216T110235Z
LAST-MODIFIED:20240515T103435Z
UID:26121-1677241800-1677241800@scich.org
SUMMARY:Info-event: Long-Term-Volunteering
DESCRIPTION:Do you want to contribute to society instead of just traveling?\nDo you want to support a social\, ecological or cultural project in Africa\, Asia\, Latin America or North America for 1-3 months?\nAre you interested in volunteering & do you want to contribute to social transformation and global justice?\n\nIf all your answers are “yes”\, join one of our info-events!\n\nSCI Switzerland organizes volunteering projects around the world that contribute to peace in a broad sense: to social justice\, sustainable development\, equality\, solidarity and non-violent conflict resolution.\nIf you want to join\, sign up: https://scich.org/en/information-events/#info-events\n\nIf you are unable to participate on that day\, we can send you all the information by email!\n\nBe part of the change!\n\n*This event is for people living in Switzerland
URL:https://scich.org/events/info-event-long-term-volunteering/
LOCATION:Bern
END:VEVENT
BEGIN:VEVENT
DTSTART;TZID=Europe/London:20230224T190000
DTEND;TZID=Europe/London:20230224T213000
DTSTAMP:20260421T020628
CREATED:20230126T140900Z
LAST-MODIFIED:20230126T141008Z
UID:25942-1677265200-1677274200@scich.org
SUMMARY:Pazifismus in der Krise? Ein Gesprächsabend in Bern (24. Februar 2023)
DESCRIPTION:Ein Jahr nach dem Einmarsch der russischen Armee in den Donbass möchten wir erfahren\, wie es den Pazifist*innen in der Ukraine im letzten Jahr ergangen ist\, welche Antworten sie auf die Herausforderungen gefunden haben\, und ob und wie sie den gewaltfreien Widerstand organisiert haben. Wir werden mit Andre Kamenshikov von Nonviolence International und Vanessa Bieri von GSoA sprechen. Die Veranstaltung findet am Freitag\, 24. Februar\, von 19 bis 21.30 Uhr im Kirchgemeindehaus Nydegg\, Nydeggstalden 9\, Bern statt. Wir freuen uns auf dich! \nMEHR ERFAHREN: https://scich.org/pazifismus-in-der-krise/
URL:https://scich.org/events/pazifismus-in-der-krise-bern/
LOCATION:Bern
END:VEVENT
BEGIN:VEVENT
DTSTART;TZID=Europe/London:20230228T193000
DTEND;TZID=Europe/London:20230228T193000
DTSTAMP:20260421T020628
CREATED:20230216T110549Z
LAST-MODIFIED:20240515T103453Z
UID:26123-1677612600-1677612600@scich.org
SUMMARY:Online Info-event: Volunteering for Peace
DESCRIPTION:Do you want to contribute to society instead of just traveling?\n\nDo you want to support a social\, ecological or cultural project abroad or in Switzerland?\nAre you interested in #volunteering\, trainings and local projects & do you want to contribute to social transformation and global justice?\n\nIf all your answers are “yes”\, join one of our online info-events!\n\nSCI Switzerland organizes volunteering projects around the world that contribute to peace in a broad sense: to social justice\, sustainable development\, equality\, solidarity and non-violent conflict resolution.\n\nIf you want to join\, sign up: https://scich.org/en/information-events/#info-events\n\nIf you are unable to participate on that day\, we can send you all the information by email!\n\nBe part of the change!\n\n*This event is for people living in Switzerland
URL:https://scich.org/events/online-info-event-february-2023/
LOCATION:Bern
END:VEVENT
END:VCALENDAR